BEGIN:VCALENDAR
VERSION:2.0
PRODID:-//Dou Panta&iuml; - ECPv6.15.20//NONSGML v1.0//EN
CALSCALE:GREGORIAN
METHOD:PUBLISH
X-WR-CALNAME:Dou Panta&iuml;
X-ORIGINAL-URL:https://doupantai.fr
X-WR-CALDESC:Évènements pour Dou Panta&iuml;
REFRESH-INTERVAL;VALUE=DURATION:PT1H
X-Robots-Tag:noindex
X-PUBLISHED-TTL:PT1H
BEGIN:VTIMEZONE
TZID:Europe/Paris
BEGIN:DAYLIGHT
TZOFFSETFROM:+0100
TZOFFSETTO:+0200
TZNAME:CEST
DTSTART:20250330T010000
END:DAYLIGHT
BEGIN:STANDARD
TZOFFSETFROM:+0200
TZOFFSETTO:+0100
TZNAME:CET
DTSTART:20251026T010000
END:STANDARD
BEGIN:DAYLIGHT
TZOFFSETFROM:+0100
TZOFFSETTO:+0200
TZNAME:CEST
DTSTART:20260329T010000
END:DAYLIGHT
BEGIN:STANDARD
TZOFFSETFROM:+0200
TZOFFSETTO:+0100
TZNAME:CET
DTSTART:20261025T010000
END:STANDARD
BEGIN:DAYLIGHT
TZOFFSETFROM:+0100
TZOFFSETTO:+0200
TZNAME:CEST
DTSTART:20270328T010000
END:DAYLIGHT
BEGIN:STANDARD
TZOFFSETFROM:+0200
TZOFFSETTO:+0100
TZNAME:CET
DTSTART:20271031T010000
END:STANDARD
END:VTIMEZONE
BEGIN:VEVENT
DTSTART;TZID=Europe/Paris:20260421T090000
DTEND;TZID=Europe/Paris:20260502T163000
DTSTAMP:20260424T204242
CREATED:20260408T210543Z
LAST-MODIFIED:20260408T210543Z
UID:1721-1776762000-1777739400@doupantai.fr
SUMMARY:Vacances avril
DESCRIPTION:
URL:https://doupantai.fr/event/vacances-avril/
LOCATION:Ferme équestre Dou Pantai\, Montaren & St Médiers\, 30700\, France
CATEGORIES:Elevage,Ferme équestre
ATTACH;FMTTYPE=image/jpeg:https://doupantai.fr/wp-content/uploads/2026/04/659074921_1261023152835879_2749246435614942765_n.jpg
END:VEVENT
END:VCALENDAR